BEGIN:VCALENDAR
VERSION:2.0
PRODID:-//eventon.com NONSGML v1.0//EN
CALSCALE:GREGORIAN
METHOD:PUBLISH
BEGIN:VEVENT
UID:69eac6bb13a16
DTSTAMP:20260424T012619Z
DTSTART:20260430
DTEND:20260501
LOCATION:Musée du Tour Automatique et d'Histoire de Moutier Rue Industrielle 121 - 2740 Moutier
SUMMARY:Exposition de matrices d'impression
DESCRIPTION:Heures d&rsquo;ouverture : Jeudi 30 avril : 15h00 &#8211; 19h00
  Vendredi 1er mai : 15h00 &#8211; 19h00 Samedi 2 mai : 10h00 &#8211; 17h00 
 Matrices d’impression : La découverte d’un véritable petit trésor En
  fouillant joyeusement dans les caves du musée durant une canicule estival
 e\,  nous avons eu la merveilleuse[..]\nhttps://www.museedutour.ch/evenemen
 t/exposition-de-matrices-dimpression/
URL:https://www.museedutour.ch/evenement/exposition-de-matrices-dimpression/
END:VEVENT
END:VCALENDAR